BEGIN:VCALENDAR
VERSION:2.0
PRODID:-//Jewish Federation of NEPA - ECPv6.15.20//NONSGML v1.0//EN
CALSCALE:GREGORIAN
METHOD:PUBLISH
X-ORIGINAL-URL:https://jewishnepa.org
X-WR-CALDESC:Events for Jewish Federation of NEPA
REFRESH-INTERVAL;VALUE=DURATION:PT1H
X-Robots-Tag:noindex
X-PUBLISHED-TTL:PT1H
BEGIN:VTIMEZONE
TZID:UTC
BEGIN:STANDARD
TZOFFSETFROM:+0000
TZOFFSETTO:+0000
TZNAME:UTC
DTSTART:20240101T000000
END:STANDARD
END:VTIMEZONE
BEGIN:VEVENT
DTSTART;TZID=UTC:20250922T000000
DTEND;TZID=UTC:20250924T235900
DTSTAMP:20260426T010438
CREATED:20250830T141945Z
LAST-MODIFIED:20250830T142021Z
UID:5851-1758499200-1758758340@jewishnepa.org
SUMMARY:High Holidays at the JDC
DESCRIPTION:Experience a warm\, welcoming atmosphere that will leave you feeling enriched and uplifted. No membership is required\, just a simple reservation.\nWelcome the New Year in a spirit of community and joy. Feel connected and renewed as we embark on a new year together.
URL:https://jewishnepa.org/event/high-holidays-at-the-jdc/
LOCATION:Jewish Discovery Center\, 216 Miller Road\, Clarks Summit\, PA\, 18411\, United States
CATEGORIES:Community Event
ATTACH;FMTTYPE=image/png:https://jewishnepa.org/wp-content/uploads/2025/08/mah-nishma_HH-at-the-JDC.png
ORGANIZER;CN="Jewish Discovery Center":MAILTO:rabbi@jewishnepa.com
END:VEVENT
END:VCALENDAR