BEGIN:VCALENDAR
VERSION:2.0
PRODID:-//Jewish Federation of NEPA - ECPv6.15.20//NONSGML v1.0//EN
CALSCALE:GREGORIAN
METHOD:PUBLISH
X-WR-CALNAME:Jewish Federation of NEPA
X-ORIGINAL-URL:https://jewishnepa.org
X-WR-CALDESC:Events for Jewish Federation of NEPA
REFRESH-INTERVAL;VALUE=DURATION:PT1H
X-Robots-Tag:noindex
X-PUBLISHED-TTL:PT1H
BEGIN:VTIMEZONE
TZID:UTC
BEGIN:STANDARD
TZOFFSETFROM:+0000
TZOFFSETTO:+0000
TZNAME:UTC
DTSTART:20230101T000000
END:STANDARD
END:VTIMEZONE
BEGIN:VEVENT
DTSTART;TZID=UTC:20241231T173000
DTEND;TZID=UTC:20241231T210000
DTSTAMP:20260420T082443
CREATED:20241221T171058Z
LAST-MODIFIED:20241221T174950Z
UID:4892-1735666200-1735678800@jewishnepa.org
SUMMARY:BSA Board Game Night
DESCRIPTION:You’re invited to Beth Shalom Academy’s \nCHANUKAH BOARD GAME/CHESS TOURNAMENT NIGHT \nThere’s still time to get your tickets for the BSA Thanksgiving to Chanukah Raffle! \nRaffle Winners will be announced at the Game Night!
URL:https://jewishnepa.org/event/bsa-board-game-night/
LOCATION:Beth Shalom Academy\, 1025 Vine Street\, Scranton\, PA\, 18510\, United States
CATEGORIES:Community Event
ORGANIZER;CN="Beth Shalom Academy":MAILTO:mgrossman@bethshalomacademy.com
END:VEVENT
END:VCALENDAR