BEGIN:VCALENDAR
VERSION:2.0
PRODID:-//Jewish Federation of NEPA - ECPv6.15.20//NONSGML v1.0//EN
CALSCALE:GREGORIAN
METHOD:PUBLISH
X-ORIGINAL-URL:https://jewishnepa.org
X-WR-CALDESC:Events for Jewish Federation of NEPA
REFRESH-INTERVAL;VALUE=DURATION:PT1H
X-Robots-Tag:noindex
X-PUBLISHED-TTL:PT1H
BEGIN:VTIMEZONE
TZID:UTC
BEGIN:STANDARD
TZOFFSETFROM:+0000
TZOFFSETTO:+0000
TZNAME:UTC
DTSTART:20250101T000000
END:STANDARD
END:VTIMEZONE
BEGIN:VEVENT
DTSTART;TZID=UTC:20260512T103000
DTEND;TZID=UTC:20260512T120000
DTSTAMP:20260426T035145
CREATED:20240918T185853Z
LAST-MODIFIED:20250109T214117Z
UID:4499-1778581800-1778587200@jewishnepa.org
SUMMARY:Class with Rabbi Zucker - Weekly at Temple Israel of the Poconos
DESCRIPTION:Every Tuesday 10:30 am – noon Class with Rabbi Zucker  no charge
URL:https://jewishnepa.org/event/class-with-rabbi-zucker-weekly-at-temple-israel-of-the-poconos/2026-05-12/
LOCATION:Temple Israel of the Poconos\, 711 Wallace Street\, Stroudsburg\, PA\, 18360\, United States
CATEGORIES:Community Event
ATTACH;FMTTYPE=image/png:https://jewishnepa.org/wp-content/uploads/2024/09/Oct7-IG-2.png
ORGANIZER;CN="Temple Israel of the Poconos":MAILTO:tipoc@ptd.net
END:VEVENT
BEGIN:VEVENT
DTSTART;TZID=UTC:20260512T110000
DTEND;TZID=UTC:20260512T120000
DTSTAMP:20260426T035145
CREATED:20240918T185259Z
LAST-MODIFIED:20250127T170726Z
UID:4393-1778583600-1778587200@jewishnepa.org
SUMMARY:Weekly Chair Yoga at Temple Israel of the Poconos
DESCRIPTION:Join us for our weekly chair yoga class.  $5 per person.
URL:https://jewishnepa.org/event/weekly-chair-yoga-at-temple-israel-of-the-poconos/2026-05-12/
LOCATION:Temple Israel of the Poconos\, 711 Wallace Street\, Stroudsburg\, PA\, 18360\, United States
CATEGORIES:Community Event
ATTACH;FMTTYPE=image/png:https://jewishnepa.org/wp-content/uploads/2024/09/Oct7-IG-1.png
ORGANIZER;CN="Temple Israel of the Poconos":MAILTO:tipoc@ptd.net
END:VEVENT
BEGIN:VEVENT
DTSTART;TZID=UTC:20260519T100000
DTEND;TZID=UTC:20260519T120000
DTSTAMP:20260426T035145
CREATED:20240108T214623Z
LAST-MODIFIED:20250103T000017Z
UID:4723-1779184800-1779192000@jewishnepa.org
SUMMARY:Mah Jongg at Temple Israel of the Poconos
DESCRIPTION:Do you play Mah Jongg? Want to Learn?\nTemple Israel of the Poconos\n711 Wallace Street\nStroudsburg\, PA 18360\nEvery Tuesday 10 am\nFor more information\, please call Temple office at 570-421-8781 or email: tipoc@ptd.net
URL:https://jewishnepa.org/event/mah-jongg-2/2026-05-19/
LOCATION:Temple Israel of the Poconos\, 711 Wallace Street\, Stroudsburg\, PA\, 18360\, United States
CATEGORIES:Community Event
ATTACH;FMTTYPE=image/jpeg:https://jewishnepa.org/wp-content/uploads/2024/01/1691229421040-da1853a8681b43ad97875e2c90d286fa-goods.jpeg
ORGANIZER;CN="Temple Israel of the Poconos":MAILTO:tipoc@ptd.net
END:VEVENT
BEGIN:VEVENT
DTSTART;TZID=UTC:20260519T103000
DTEND;TZID=UTC:20260519T120000
DTSTAMP:20260426T035145
CREATED:20240918T185853Z
LAST-MODIFIED:20250109T214118Z
UID:4500-1779186600-1779192000@jewishnepa.org
SUMMARY:Class with Rabbi Zucker - Weekly at Temple Israel of the Poconos
DESCRIPTION:Every Tuesday 10:30 am – noon Class with Rabbi Zucker  no charge
URL:https://jewishnepa.org/event/class-with-rabbi-zucker-weekly-at-temple-israel-of-the-poconos/2026-05-19/
LOCATION:Temple Israel of the Poconos\, 711 Wallace Street\, Stroudsburg\, PA\, 18360\, United States
CATEGORIES:Community Event
ATTACH;FMTTYPE=image/png:https://jewishnepa.org/wp-content/uploads/2024/09/Oct7-IG-2.png
ORGANIZER;CN="Temple Israel of the Poconos":MAILTO:tipoc@ptd.net
END:VEVENT
BEGIN:VEVENT
DTSTART;TZID=UTC:20260519T110000
DTEND;TZID=UTC:20260519T120000
DTSTAMP:20260426T035145
CREATED:20240918T185259Z
LAST-MODIFIED:20250127T170726Z
UID:4394-1779188400-1779192000@jewishnepa.org
SUMMARY:Weekly Chair Yoga at Temple Israel of the Poconos
DESCRIPTION:Join us for our weekly chair yoga class.  $5 per person.
URL:https://jewishnepa.org/event/weekly-chair-yoga-at-temple-israel-of-the-poconos/2026-05-19/
LOCATION:Temple Israel of the Poconos\, 711 Wallace Street\, Stroudsburg\, PA\, 18360\, United States
CATEGORIES:Community Event
ATTACH;FMTTYPE=image/png:https://jewishnepa.org/wp-content/uploads/2024/09/Oct7-IG-1.png
ORGANIZER;CN="Temple Israel of the Poconos":MAILTO:tipoc@ptd.net
END:VEVENT
BEGIN:VEVENT
DTSTART;TZID=UTC:20260526T100000
DTEND;TZID=UTC:20260526T120000
DTSTAMP:20260426T035145
CREATED:20240108T214623Z
LAST-MODIFIED:20250103T000017Z
UID:4724-1779789600-1779796800@jewishnepa.org
SUMMARY:Mah Jongg at Temple Israel of the Poconos
DESCRIPTION:Do you play Mah Jongg? Want to Learn?\nTemple Israel of the Poconos\n711 Wallace Street\nStroudsburg\, PA 18360\nEvery Tuesday 10 am\nFor more information\, please call Temple office at 570-421-8781 or email: tipoc@ptd.net
URL:https://jewishnepa.org/event/mah-jongg-2/2026-05-26/
LOCATION:Temple Israel of the Poconos\, 711 Wallace Street\, Stroudsburg\, PA\, 18360\, United States
CATEGORIES:Community Event
ATTACH;FMTTYPE=image/jpeg:https://jewishnepa.org/wp-content/uploads/2024/01/1691229421040-da1853a8681b43ad97875e2c90d286fa-goods.jpeg
ORGANIZER;CN="Temple Israel of the Poconos":MAILTO:tipoc@ptd.net
END:VEVENT
BEGIN:VEVENT
DTSTART;TZID=UTC:20260526T103000
DTEND;TZID=UTC:20260526T120000
DTSTAMP:20260426T035145
CREATED:20240918T185853Z
LAST-MODIFIED:20250109T214118Z
UID:4501-1779791400-1779796800@jewishnepa.org
SUMMARY:Class with Rabbi Zucker - Weekly at Temple Israel of the Poconos
DESCRIPTION:Every Tuesday 10:30 am – noon Class with Rabbi Zucker  no charge
URL:https://jewishnepa.org/event/class-with-rabbi-zucker-weekly-at-temple-israel-of-the-poconos/2026-05-26/
LOCATION:Temple Israel of the Poconos\, 711 Wallace Street\, Stroudsburg\, PA\, 18360\, United States
CATEGORIES:Community Event
ATTACH;FMTTYPE=image/png:https://jewishnepa.org/wp-content/uploads/2024/09/Oct7-IG-2.png
ORGANIZER;CN="Temple Israel of the Poconos":MAILTO:tipoc@ptd.net
END:VEVENT
BEGIN:VEVENT
DTSTART;TZID=UTC:20260526T110000
DTEND;TZID=UTC:20260526T120000
DTSTAMP:20260426T035145
CREATED:20240918T185259Z
LAST-MODIFIED:20250127T170727Z
UID:4395-1779793200-1779796800@jewishnepa.org
SUMMARY:Weekly Chair Yoga at Temple Israel of the Poconos
DESCRIPTION:Join us for our weekly chair yoga class.  $5 per person.
URL:https://jewishnepa.org/event/weekly-chair-yoga-at-temple-israel-of-the-poconos/2026-05-26/
LOCATION:Temple Israel of the Poconos\, 711 Wallace Street\, Stroudsburg\, PA\, 18360\, United States
CATEGORIES:Community Event
ATTACH;FMTTYPE=image/png:https://jewishnepa.org/wp-content/uploads/2024/09/Oct7-IG-1.png
ORGANIZER;CN="Temple Israel of the Poconos":MAILTO:tipoc@ptd.net
END:VEVENT
BEGIN:VEVENT
DTSTART;TZID=UTC:20260531T080000
DTEND;TZID=UTC:20260531T200000
DTSTAMP:20260426T035145
CREATED:20260425T172528Z
LAST-MODIFIED:20260425T172528Z
UID:6239-1780214400-1780257600@jewishnepa.org
SUMMARY:Israel Day on 5th
DESCRIPTION:Don’t miss your chance to be part of something unforgettable—the  Israel Day on Fifth parade in NYC! \nJoin the JewishNEPA community as we march proudly down 5th Avenue\, in solidarity with Israel. \n$15 per person includes: \n√ Round-trip transportation from Scranton and the Poconos \n√  A Celebrate Israel Parade t-shirt \nWHY WE MARCH: \n\nto show our Jewish pride – openly & together\nin solidarity with Israel\nbecause community & visibility matter\n\nReserve your spot now and stand with us in Jewish solidarity and pride. \nA post-parade kosher eats & shopping stop in Teaneck\, NJ \n  \nDETAILS \nThe bus will leave from the Scranton JCC and make a stop in the Poconos on the way to New York City. \nAfter marching down 5th Avenue\, we will board the bus and make a stop in Teaneck\, NJ for a kosher nosh and some shopping before returning to PA.
URL:https://jewishnepa.org/event/israel-day-on-5th/
LOCATION:PA
CATEGORIES:Community Event,Federation
ATTACH;FMTTYPE=image/png:https://jewishnepa.org/wp-content/uploads/2026/04/JFED-Israel-Parade-2025-4.png
ORGANIZER;CN="Jewish Federation of NEPA":MAILTO:dassy.ganz@jewishnepa.org
END:VEVENT
BEGIN:VEVENT
DTSTART;TZID=UTC:20260602T100000
DTEND;TZID=UTC:20260602T120000
DTSTAMP:20260426T035145
CREATED:20240108T214623Z
LAST-MODIFIED:20250103T000017Z
UID:4725-1780394400-1780401600@jewishnepa.org
SUMMARY:Mah Jongg at Temple Israel of the Poconos
DESCRIPTION:Do you play Mah Jongg? Want to Learn?\nTemple Israel of the Poconos\n711 Wallace Street\nStroudsburg\, PA 18360\nEvery Tuesday 10 am\nFor more information\, please call Temple office at 570-421-8781 or email: tipoc@ptd.net
URL:https://jewishnepa.org/event/mah-jongg-2/2026-06-02/
LOCATION:Temple Israel of the Poconos\, 711 Wallace Street\, Stroudsburg\, PA\, 18360\, United States
CATEGORIES:Community Event
ATTACH;FMTTYPE=image/jpeg:https://jewishnepa.org/wp-content/uploads/2024/01/1691229421040-da1853a8681b43ad97875e2c90d286fa-goods.jpeg
ORGANIZER;CN="Temple Israel of the Poconos":MAILTO:tipoc@ptd.net
END:VEVENT
BEGIN:VEVENT
DTSTART;TZID=UTC:20260602T103000
DTEND;TZID=UTC:20260602T120000
DTSTAMP:20260426T035145
CREATED:20240918T185853Z
LAST-MODIFIED:20250109T214118Z
UID:4502-1780396200-1780401600@jewishnepa.org
SUMMARY:Class with Rabbi Zucker - Weekly at Temple Israel of the Poconos
DESCRIPTION:Every Tuesday 10:30 am – noon Class with Rabbi Zucker  no charge
URL:https://jewishnepa.org/event/class-with-rabbi-zucker-weekly-at-temple-israel-of-the-poconos/2026-06-02/
LOCATION:Temple Israel of the Poconos\, 711 Wallace Street\, Stroudsburg\, PA\, 18360\, United States
CATEGORIES:Community Event
ATTACH;FMTTYPE=image/png:https://jewishnepa.org/wp-content/uploads/2024/09/Oct7-IG-2.png
ORGANIZER;CN="Temple Israel of the Poconos":MAILTO:tipoc@ptd.net
END:VEVENT
BEGIN:VEVENT
DTSTART;TZID=UTC:20260602T110000
DTEND;TZID=UTC:20260602T120000
DTSTAMP:20260426T035145
CREATED:20240918T185259Z
LAST-MODIFIED:20250127T170727Z
UID:4396-1780398000-1780401600@jewishnepa.org
SUMMARY:Weekly Chair Yoga at Temple Israel of the Poconos
DESCRIPTION:Join us for our weekly chair yoga class.  $5 per person.
URL:https://jewishnepa.org/event/weekly-chair-yoga-at-temple-israel-of-the-poconos/2026-06-02/
LOCATION:Temple Israel of the Poconos\, 711 Wallace Street\, Stroudsburg\, PA\, 18360\, United States
CATEGORIES:Community Event
ATTACH;FMTTYPE=image/png:https://jewishnepa.org/wp-content/uploads/2024/09/Oct7-IG-1.png
ORGANIZER;CN="Temple Israel of the Poconos":MAILTO:tipoc@ptd.net
END:VEVENT
BEGIN:VEVENT
DTSTART;TZID=UTC:20260609T100000
DTEND;TZID=UTC:20260609T120000
DTSTAMP:20260426T035145
CREATED:20240108T214623Z
LAST-MODIFIED:20250103T000017Z
UID:4726-1780999200-1781006400@jewishnepa.org
SUMMARY:Mah Jongg at Temple Israel of the Poconos
DESCRIPTION:Do you play Mah Jongg? Want to Learn?\nTemple Israel of the Poconos\n711 Wallace Street\nStroudsburg\, PA 18360\nEvery Tuesday 10 am\nFor more information\, please call Temple office at 570-421-8781 or email: tipoc@ptd.net
URL:https://jewishnepa.org/event/mah-jongg-2/2026-06-09/
LOCATION:Temple Israel of the Poconos\, 711 Wallace Street\, Stroudsburg\, PA\, 18360\, United States
CATEGORIES:Community Event
ATTACH;FMTTYPE=image/jpeg:https://jewishnepa.org/wp-content/uploads/2024/01/1691229421040-da1853a8681b43ad97875e2c90d286fa-goods.jpeg
ORGANIZER;CN="Temple Israel of the Poconos":MAILTO:tipoc@ptd.net
END:VEVENT
BEGIN:VEVENT
DTSTART;TZID=UTC:20260609T103000
DTEND;TZID=UTC:20260609T120000
DTSTAMP:20260426T035145
CREATED:20240918T185853Z
LAST-MODIFIED:20250109T214118Z
UID:4503-1781001000-1781006400@jewishnepa.org
SUMMARY:Class with Rabbi Zucker - Weekly at Temple Israel of the Poconos
DESCRIPTION:Every Tuesday 10:30 am – noon Class with Rabbi Zucker  no charge
URL:https://jewishnepa.org/event/class-with-rabbi-zucker-weekly-at-temple-israel-of-the-poconos/2026-06-09/
LOCATION:Temple Israel of the Poconos\, 711 Wallace Street\, Stroudsburg\, PA\, 18360\, United States
CATEGORIES:Community Event
ATTACH;FMTTYPE=image/png:https://jewishnepa.org/wp-content/uploads/2024/09/Oct7-IG-2.png
ORGANIZER;CN="Temple Israel of the Poconos":MAILTO:tipoc@ptd.net
END:VEVENT
BEGIN:VEVENT
DTSTART;TZID=UTC:20260609T110000
DTEND;TZID=UTC:20260609T120000
DTSTAMP:20260426T035145
CREATED:20240918T185259Z
LAST-MODIFIED:20250127T170727Z
UID:4397-1781002800-1781006400@jewishnepa.org
SUMMARY:Weekly Chair Yoga at Temple Israel of the Poconos
DESCRIPTION:Join us for our weekly chair yoga class.  $5 per person.
URL:https://jewishnepa.org/event/weekly-chair-yoga-at-temple-israel-of-the-poconos/2026-06-09/
LOCATION:Temple Israel of the Poconos\, 711 Wallace Street\, Stroudsburg\, PA\, 18360\, United States
CATEGORIES:Community Event
ATTACH;FMTTYPE=image/png:https://jewishnepa.org/wp-content/uploads/2024/09/Oct7-IG-1.png
ORGANIZER;CN="Temple Israel of the Poconos":MAILTO:tipoc@ptd.net
END:VEVENT
BEGIN:VEVENT
DTSTART;TZID=UTC:20260616T100000
DTEND;TZID=UTC:20260616T120000
DTSTAMP:20260426T035145
CREATED:20240108T214623Z
LAST-MODIFIED:20250103T000018Z
UID:4727-1781604000-1781611200@jewishnepa.org
SUMMARY:Mah Jongg at Temple Israel of the Poconos
DESCRIPTION:Do you play Mah Jongg? Want to Learn?\nTemple Israel of the Poconos\n711 Wallace Street\nStroudsburg\, PA 18360\nEvery Tuesday 10 am\nFor more information\, please call Temple office at 570-421-8781 or email: tipoc@ptd.net
URL:https://jewishnepa.org/event/mah-jongg-2/2026-06-16/
LOCATION:Temple Israel of the Poconos\, 711 Wallace Street\, Stroudsburg\, PA\, 18360\, United States
CATEGORIES:Community Event
ATTACH;FMTTYPE=image/jpeg:https://jewishnepa.org/wp-content/uploads/2024/01/1691229421040-da1853a8681b43ad97875e2c90d286fa-goods.jpeg
ORGANIZER;CN="Temple Israel of the Poconos":MAILTO:tipoc@ptd.net
END:VEVENT
BEGIN:VEVENT
DTSTART;TZID=UTC:20260616T103000
DTEND;TZID=UTC:20260616T120000
DTSTAMP:20260426T035145
CREATED:20240918T185853Z
LAST-MODIFIED:20250109T214119Z
UID:4504-1781605800-1781611200@jewishnepa.org
SUMMARY:Class with Rabbi Zucker - Weekly at Temple Israel of the Poconos
DESCRIPTION:Every Tuesday 10:30 am – noon Class with Rabbi Zucker  no charge
URL:https://jewishnepa.org/event/class-with-rabbi-zucker-weekly-at-temple-israel-of-the-poconos/2026-06-16/
LOCATION:Temple Israel of the Poconos\, 711 Wallace Street\, Stroudsburg\, PA\, 18360\, United States
CATEGORIES:Community Event
ATTACH;FMTTYPE=image/png:https://jewishnepa.org/wp-content/uploads/2024/09/Oct7-IG-2.png
ORGANIZER;CN="Temple Israel of the Poconos":MAILTO:tipoc@ptd.net
END:VEVENT
BEGIN:VEVENT
DTSTART;TZID=UTC:20260616T110000
DTEND;TZID=UTC:20260616T120000
DTSTAMP:20260426T035145
CREATED:20240918T185259Z
LAST-MODIFIED:20250127T170727Z
UID:4398-1781607600-1781611200@jewishnepa.org
SUMMARY:Weekly Chair Yoga at Temple Israel of the Poconos
DESCRIPTION:Join us for our weekly chair yoga class.  $5 per person.
URL:https://jewishnepa.org/event/weekly-chair-yoga-at-temple-israel-of-the-poconos/2026-06-16/
LOCATION:Temple Israel of the Poconos\, 711 Wallace Street\, Stroudsburg\, PA\, 18360\, United States
CATEGORIES:Community Event
ATTACH;FMTTYPE=image/png:https://jewishnepa.org/wp-content/uploads/2024/09/Oct7-IG-1.png
ORGANIZER;CN="Temple Israel of the Poconos":MAILTO:tipoc@ptd.net
END:VEVENT
BEGIN:VEVENT
DTSTART;TZID=UTC:20260623T100000
DTEND;TZID=UTC:20260623T120000
DTSTAMP:20260426T035145
CREATED:20240108T214623Z
LAST-MODIFIED:20250103T000019Z
UID:4728-1782208800-1782216000@jewishnepa.org
SUMMARY:Mah Jongg at Temple Israel of the Poconos
DESCRIPTION:Do you play Mah Jongg? Want to Learn?\nTemple Israel of the Poconos\n711 Wallace Street\nStroudsburg\, PA 18360\nEvery Tuesday 10 am\nFor more information\, please call Temple office at 570-421-8781 or email: tipoc@ptd.net
URL:https://jewishnepa.org/event/mah-jongg-2/2026-06-23/
LOCATION:Temple Israel of the Poconos\, 711 Wallace Street\, Stroudsburg\, PA\, 18360\, United States
CATEGORIES:Community Event
ATTACH;FMTTYPE=image/jpeg:https://jewishnepa.org/wp-content/uploads/2024/01/1691229421040-da1853a8681b43ad97875e2c90d286fa-goods.jpeg
ORGANIZER;CN="Temple Israel of the Poconos":MAILTO:tipoc@ptd.net
END:VEVENT
BEGIN:VEVENT
DTSTART;TZID=UTC:20260623T103000
DTEND;TZID=UTC:20260623T120000
DTSTAMP:20260426T035145
CREATED:20240918T185853Z
LAST-MODIFIED:20250109T214119Z
UID:4505-1782210600-1782216000@jewishnepa.org
SUMMARY:Class with Rabbi Zucker - Weekly at Temple Israel of the Poconos
DESCRIPTION:Every Tuesday 10:30 am – noon Class with Rabbi Zucker  no charge
URL:https://jewishnepa.org/event/class-with-rabbi-zucker-weekly-at-temple-israel-of-the-poconos/2026-06-23/
LOCATION:Temple Israel of the Poconos\, 711 Wallace Street\, Stroudsburg\, PA\, 18360\, United States
CATEGORIES:Community Event
ATTACH;FMTTYPE=image/png:https://jewishnepa.org/wp-content/uploads/2024/09/Oct7-IG-2.png
ORGANIZER;CN="Temple Israel of the Poconos":MAILTO:tipoc@ptd.net
END:VEVENT
BEGIN:VEVENT
DTSTART;TZID=UTC:20260623T110000
DTEND;TZID=UTC:20260623T120000
DTSTAMP:20260426T035145
CREATED:20240918T185259Z
LAST-MODIFIED:20250127T170728Z
UID:4399-1782212400-1782216000@jewishnepa.org
SUMMARY:Weekly Chair Yoga at Temple Israel of the Poconos
DESCRIPTION:Join us for our weekly chair yoga class.  $5 per person.
URL:https://jewishnepa.org/event/weekly-chair-yoga-at-temple-israel-of-the-poconos/2026-06-23/
LOCATION:Temple Israel of the Poconos\, 711 Wallace Street\, Stroudsburg\, PA\, 18360\, United States
CATEGORIES:Community Event
ATTACH;FMTTYPE=image/png:https://jewishnepa.org/wp-content/uploads/2024/09/Oct7-IG-1.png
ORGANIZER;CN="Temple Israel of the Poconos":MAILTO:tipoc@ptd.net
END:VEVENT
BEGIN:VEVENT
DTSTART;TZID=UTC:20260630T100000
DTEND;TZID=UTC:20260630T120000
DTSTAMP:20260426T035145
CREATED:20240108T214623Z
LAST-MODIFIED:20250103T000019Z
UID:4729-1782813600-1782820800@jewishnepa.org
SUMMARY:Mah Jongg at Temple Israel of the Poconos
DESCRIPTION:Do you play Mah Jongg? Want to Learn?\nTemple Israel of the Poconos\n711 Wallace Street\nStroudsburg\, PA 18360\nEvery Tuesday 10 am\nFor more information\, please call Temple office at 570-421-8781 or email: tipoc@ptd.net
URL:https://jewishnepa.org/event/mah-jongg-2/2026-06-30/
LOCATION:Temple Israel of the Poconos\, 711 Wallace Street\, Stroudsburg\, PA\, 18360\, United States
CATEGORIES:Community Event
ATTACH;FMTTYPE=image/jpeg:https://jewishnepa.org/wp-content/uploads/2024/01/1691229421040-da1853a8681b43ad97875e2c90d286fa-goods.jpeg
ORGANIZER;CN="Temple Israel of the Poconos":MAILTO:tipoc@ptd.net
END:VEVENT
BEGIN:VEVENT
DTSTART;TZID=UTC:20260630T103000
DTEND;TZID=UTC:20260630T120000
DTSTAMP:20260426T035145
CREATED:20240918T185853Z
LAST-MODIFIED:20250109T214119Z
UID:4506-1782815400-1782820800@jewishnepa.org
SUMMARY:Class with Rabbi Zucker - Weekly at Temple Israel of the Poconos
DESCRIPTION:Every Tuesday 10:30 am – noon Class with Rabbi Zucker  no charge
URL:https://jewishnepa.org/event/class-with-rabbi-zucker-weekly-at-temple-israel-of-the-poconos/2026-06-30/
LOCATION:Temple Israel of the Poconos\, 711 Wallace Street\, Stroudsburg\, PA\, 18360\, United States
CATEGORIES:Community Event
ATTACH;FMTTYPE=image/png:https://jewishnepa.org/wp-content/uploads/2024/09/Oct7-IG-2.png
ORGANIZER;CN="Temple Israel of the Poconos":MAILTO:tipoc@ptd.net
END:VEVENT
BEGIN:VEVENT
DTSTART;TZID=UTC:20260630T110000
DTEND;TZID=UTC:20260630T120000
DTSTAMP:20260426T035145
CREATED:20240918T185259Z
LAST-MODIFIED:20250127T170728Z
UID:4400-1782817200-1782820800@jewishnepa.org
SUMMARY:Weekly Chair Yoga at Temple Israel of the Poconos
DESCRIPTION:Join us for our weekly chair yoga class.  $5 per person.
URL:https://jewishnepa.org/event/weekly-chair-yoga-at-temple-israel-of-the-poconos/2026-06-30/
LOCATION:Temple Israel of the Poconos\, 711 Wallace Street\, Stroudsburg\, PA\, 18360\, United States
CATEGORIES:Community Event
ATTACH;FMTTYPE=image/png:https://jewishnepa.org/wp-content/uploads/2024/09/Oct7-IG-1.png
ORGANIZER;CN="Temple Israel of the Poconos":MAILTO:tipoc@ptd.net
END:VEVENT
BEGIN:VEVENT
DTSTART;TZID=UTC:20260707T100000
DTEND;TZID=UTC:20260707T120000
DTSTAMP:20260426T035145
CREATED:20240108T214623Z
LAST-MODIFIED:20250103T000019Z
UID:4730-1783418400-1783425600@jewishnepa.org
SUMMARY:Mah Jongg at Temple Israel of the Poconos
DESCRIPTION:Do you play Mah Jongg? Want to Learn?\nTemple Israel of the Poconos\n711 Wallace Street\nStroudsburg\, PA 18360\nEvery Tuesday 10 am\nFor more information\, please call Temple office at 570-421-8781 or email: tipoc@ptd.net
URL:https://jewishnepa.org/event/mah-jongg-2/2026-07-07/
LOCATION:Temple Israel of the Poconos\, 711 Wallace Street\, Stroudsburg\, PA\, 18360\, United States
CATEGORIES:Community Event
ATTACH;FMTTYPE=image/jpeg:https://jewishnepa.org/wp-content/uploads/2024/01/1691229421040-da1853a8681b43ad97875e2c90d286fa-goods.jpeg
ORGANIZER;CN="Temple Israel of the Poconos":MAILTO:tipoc@ptd.net
END:VEVENT
BEGIN:VEVENT
DTSTART;TZID=UTC:20260707T103000
DTEND;TZID=UTC:20260707T120000
DTSTAMP:20260426T035145
CREATED:20240918T185853Z
LAST-MODIFIED:20250109T214119Z
UID:4507-1783420200-1783425600@jewishnepa.org
SUMMARY:Class with Rabbi Zucker - Weekly at Temple Israel of the Poconos
DESCRIPTION:Every Tuesday 10:30 am – noon Class with Rabbi Zucker  no charge
URL:https://jewishnepa.org/event/class-with-rabbi-zucker-weekly-at-temple-israel-of-the-poconos/2026-07-07/
LOCATION:Temple Israel of the Poconos\, 711 Wallace Street\, Stroudsburg\, PA\, 18360\, United States
CATEGORIES:Community Event
ATTACH;FMTTYPE=image/png:https://jewishnepa.org/wp-content/uploads/2024/09/Oct7-IG-2.png
ORGANIZER;CN="Temple Israel of the Poconos":MAILTO:tipoc@ptd.net
END:VEVENT
BEGIN:VEVENT
DTSTART;TZID=UTC:20260707T110000
DTEND;TZID=UTC:20260707T120000
DTSTAMP:20260426T035145
CREATED:20240918T185259Z
LAST-MODIFIED:20250127T170728Z
UID:4401-1783422000-1783425600@jewishnepa.org
SUMMARY:Weekly Chair Yoga at Temple Israel of the Poconos
DESCRIPTION:Join us for our weekly chair yoga class.  $5 per person.
URL:https://jewishnepa.org/event/weekly-chair-yoga-at-temple-israel-of-the-poconos/2026-07-07/
LOCATION:Temple Israel of the Poconos\, 711 Wallace Street\, Stroudsburg\, PA\, 18360\, United States
CATEGORIES:Community Event
ATTACH;FMTTYPE=image/png:https://jewishnepa.org/wp-content/uploads/2024/09/Oct7-IG-1.png
ORGANIZER;CN="Temple Israel of the Poconos":MAILTO:tipoc@ptd.net
END:VEVENT
BEGIN:VEVENT
DTSTART;TZID=UTC:20260714T100000
DTEND;TZID=UTC:20260714T120000
DTSTAMP:20260426T035145
CREATED:20240108T214623Z
LAST-MODIFIED:20250103T000019Z
UID:4731-1784023200-1784030400@jewishnepa.org
SUMMARY:Mah Jongg at Temple Israel of the Poconos
DESCRIPTION:Do you play Mah Jongg? Want to Learn?\nTemple Israel of the Poconos\n711 Wallace Street\nStroudsburg\, PA 18360\nEvery Tuesday 10 am\nFor more information\, please call Temple office at 570-421-8781 or email: tipoc@ptd.net
URL:https://jewishnepa.org/event/mah-jongg-2/2026-07-14/
LOCATION:Temple Israel of the Poconos\, 711 Wallace Street\, Stroudsburg\, PA\, 18360\, United States
CATEGORIES:Community Event
ATTACH;FMTTYPE=image/jpeg:https://jewishnepa.org/wp-content/uploads/2024/01/1691229421040-da1853a8681b43ad97875e2c90d286fa-goods.jpeg
ORGANIZER;CN="Temple Israel of the Poconos":MAILTO:tipoc@ptd.net
END:VEVENT
BEGIN:VEVENT
DTSTART;TZID=UTC:20260714T103000
DTEND;TZID=UTC:20260714T120000
DTSTAMP:20260426T035145
CREATED:20240918T185853Z
LAST-MODIFIED:20250109T214119Z
UID:4508-1784025000-1784030400@jewishnepa.org
SUMMARY:Class with Rabbi Zucker - Weekly at Temple Israel of the Poconos
DESCRIPTION:Every Tuesday 10:30 am – noon Class with Rabbi Zucker  no charge
URL:https://jewishnepa.org/event/class-with-rabbi-zucker-weekly-at-temple-israel-of-the-poconos/2026-07-14/
LOCATION:Temple Israel of the Poconos\, 711 Wallace Street\, Stroudsburg\, PA\, 18360\, United States
CATEGORIES:Community Event
ATTACH;FMTTYPE=image/png:https://jewishnepa.org/wp-content/uploads/2024/09/Oct7-IG-2.png
ORGANIZER;CN="Temple Israel of the Poconos":MAILTO:tipoc@ptd.net
END:VEVENT
BEGIN:VEVENT
DTSTART;TZID=UTC:20260714T110000
DTEND;TZID=UTC:20260714T120000
DTSTAMP:20260426T035145
CREATED:20240918T185259Z
LAST-MODIFIED:20250127T170728Z
UID:4402-1784026800-1784030400@jewishnepa.org
SUMMARY:Weekly Chair Yoga at Temple Israel of the Poconos
DESCRIPTION:Join us for our weekly chair yoga class.  $5 per person.
URL:https://jewishnepa.org/event/weekly-chair-yoga-at-temple-israel-of-the-poconos/2026-07-14/
LOCATION:Temple Israel of the Poconos\, 711 Wallace Street\, Stroudsburg\, PA\, 18360\, United States
CATEGORIES:Community Event
ATTACH;FMTTYPE=image/png:https://jewishnepa.org/wp-content/uploads/2024/09/Oct7-IG-1.png
ORGANIZER;CN="Temple Israel of the Poconos":MAILTO:tipoc@ptd.net
END:VEVENT
END:VCALENDAR