BEGIN:VCALENDAR
VERSION:2.0
PRODID:-//Jewish Federation of NEPA - ECPv6.15.20//NONSGML v1.0//EN
CALSCALE:GREGORIAN
METHOD:PUBLISH
X-WR-CALNAME:Jewish Federation of NEPA
X-ORIGINAL-URL:https://jewishnepa.org
X-WR-CALDESC:Events for Jewish Federation of NEPA
REFRESH-INTERVAL;VALUE=DURATION:PT1H
X-Robots-Tag:noindex
X-PUBLISHED-TTL:PT1H
BEGIN:VTIMEZONE
TZID:UTC
BEGIN:STANDARD
TZOFFSETFROM:+0000
TZOFFSETTO:+0000
TZNAME:UTC
DTSTART:20220101T000000
END:STANDARD
END:VTIMEZONE
BEGIN:VEVENT
DTSTART;TZID=UTC:20240618T113000
DTEND;TZID=UTC:20240902T133000
DTSTAMP:20260419T202335
CREATED:20230811T203541Z
LAST-MODIFIED:20240618T213827Z
UID:3679-1718710200-1725283800@jewishnepa.org
SUMMARY:Hot Dog Cart at the JCC
DESCRIPTION:Enjoy delicious grilled \nKosher Hot Dogs \nHot Pretzels \nChips \nDrinks \nLocated at the Scranton JCC in the Garden Area
URL:https://jewishnepa.org/event/hot-dog-cart-at-the-jcc/2024-06-18/
LOCATION:Scranton JCC\, 601 Jefferson Avenue\, Scranton\, PA\, 18510\, United States
CATEGORIES:Community Event
ATTACH;FMTTYPE=image/jpeg:https://jewishnepa.org/wp-content/uploads/2023/05/Hotdog-II.jpg
ORGANIZER;CN="Jewish Heritage Connection":MAILTO:rabbi@jhconnection.org
END:VEVENT
BEGIN:VEVENT
DTSTART;VALUE=DATE:20240602
DTEND;VALUE=DATE:20240603
DTSTAMP:20260419T202335
CREATED:20230223T190422Z
LAST-MODIFIED:20240503T161836Z
UID:3410-1717286400-1717372799@jewishnepa.org
SUMMARY:Celebrate Israel Parade | NYC
DESCRIPTION:The JCRC-NY Celebrate Israel Parade is unquestionably the world’s largest expression of solidarity with the Jewish state\, and this year\, the theme is \nOne People – One Heart. עם אחד לב אחד – Am Echad Lev Echad.\n\n\n\n\nNo other event in the world br \nings as many people together to celebrate Israel. It’s a chance for us to gather\, Jews and non-Jews alike\, and walk arm in arm\, together as one. \n\n\n\nJoin the Jewish Federation of NEPA as we march down Manhattan’s Fifth Avenue\, enjoy NYC\, and grab a bite to eat and shop in Teaneck\, New Jersey! \nCost is $15 per person and includes: \nRound-trip bus transportation to NYC from Scranton & the Poconos \nParade Day T-Shirt  \n\n\nKindly RSVP by May 24\, 2024 \nFLASH SALE: SAVE 50% when you enter SAVE50 at checkout! \n  \n\n\n\n\n\n\n\n\n\n\n\n\n\n\n\n\n\n\n\n\n\n\n\n\n\n\n\n\n\n\n\n\n\n\n\n\n\n\n\n\n\n\n\n\n\n\n\n\n\n\n\n\n\n\n\n\n\n\n\n\n\n\n\n\n\n\n\n\n\n\n\n\n\n\n\n\n\n\n\n\n\n\n\n\n\n\n\n\n\n\n\n\n\n\n\n\n\n\n\n\n 
URL:https://jewishnepa.org/event/celebrate-israel-parade-nyc/
CATEGORIES:Community Event,Federation
ATTACH;FMTTYPE=image/png:https://jewishnepa.org/wp-content/uploads/2023/02/parade-2024.png
ORGANIZER;CN="Jewish Federation of NEPA":MAILTO:dassy.ganz@jewishnepa.org
END:VEVENT
BEGIN:VEVENT
DTSTART;TZID=UTC:20240423T180000
DTEND;TZID=UTC:20240423T203000
DTSTAMP:20260419T202335
CREATED:20240417T163424Z
LAST-MODIFIED:20240417T200812Z
UID:4034-1713895200-1713904200@jewishnepa.org
SUMMARY:Temple Hesed Community Passover Seder
DESCRIPTION:You’re invited to celebrate the second night of Passover with us! \nTemple Hesed’s annual community seder will be held on April 23 and begins at 6 pm\, using our beautiful Haggadot by Rabbi Ellen Bernstein of blessed memory.  The cost is $30/adult and $15/child 12 and under.  You can RSVP here or by phone.
URL:https://jewishnepa.org/event/temple-hesed-community-passover-seder/
CATEGORIES:Community Event
ORGANIZER;CN="Temple Hesed":MAILTO:rabbidaniel@comcast.net
END:VEVENT
BEGIN:VEVENT
DTSTART;TZID=UTC:20240124T173000
DTEND;TZID=UTC:20240124T193000
DTSTAMP:20260419T202335
CREATED:20240103T030439Z
LAST-MODIFIED:20240103T030528Z
UID:3848-1706117400-1706124600@jewishnepa.org
SUMMARY:Tu B’Shevat Celebration
DESCRIPTION:A community event in support of Israel.  Free to attend.  Limited capacity.
URL:https://jewishnepa.org/event/tu-bshevat-celebration/
LOCATION:JCC – Koppelman Auditorium\, 601 Jefferson Ave\, Scranton\, PA\, 18510\, United States
CATEGORIES:Community Event
ATTACH;FMTTYPE=image/png:https://jewishnepa.org/wp-content/uploads/2024/01/TuBshevat-Flyer-v.png
ORGANIZER;CN="Scranton JCC":MAILTO:jennifer.rosen.novak@gmail.com
END:VEVENT
BEGIN:VEVENT
DTSTART;TZID=UTC:20231207T090000
DTEND;TZID=UTC:20231207T103000
DTSTAMP:20260419T202335
CREATED:20231116T175117Z
LAST-MODIFIED:20231116T182510Z
UID:3760-1701939600-1701945000@jewishnepa.org
SUMMARY:Project Joy
DESCRIPTION:Calling all Gift Wrapping Volunteer!  Join us to for a festival morning and help wrap the toys and gifts donated through Project Joy! Meet us in the JCC Koppelman Auditorium on Thursday\, December 7 at 9:00 AM! \n  \n  \n \nPlease donate new\, unwrapped toys and gifts for local children this holiday season. Accepting donations and contributions until Thursday\, November 30\, 2023. Contributions payable to Scranton JCC.  Please send payment to the Scranton JCC | 601 Jefferson Ave | Scranton\, PA 18510
URL:https://jewishnepa.org/event/project-joy/
LOCATION:JCC – Koppelman Auditorium\, 601 Jefferson Ave\, Scranton\, PA\, 18510\, United States
CATEGORIES:Community Event
ATTACH;FMTTYPE=image/png:https://jewishnepa.org/wp-content/uploads/2023/11/unnamed-6.png
ORGANIZER;CN="Scranton JCC":MAILTO:jennifer.rosen.novak@gmail.com
END:VEVENT
END:VCALENDAR