BEGIN:VCALENDAR
VERSION:2.0
PRODID:-//Jewish Federation of NEPA - ECPv6.15.20//NONSGML v1.0//EN
CALSCALE:GREGORIAN
METHOD:PUBLISH
X-WR-CALNAME:Jewish Federation of NEPA
X-ORIGINAL-URL:https://jewishnepa.org
X-WR-CALDESC:Events for Jewish Federation of NEPA
REFRESH-INTERVAL;VALUE=DURATION:PT1H
X-Robots-Tag:noindex
X-PUBLISHED-TTL:PT1H
BEGIN:VTIMEZONE
TZID:UTC
BEGIN:STANDARD
TZOFFSETFROM:+0000
TZOFFSETTO:+0000
TZNAME:UTC
DTSTART:20250101T000000
END:STANDARD
END:VTIMEZONE
BEGIN:VEVENT
DTSTART;TZID=UTC:20260421T100000
DTEND;TZID=UTC:20260421T120000
DTSTAMP:20260421T014033
CREATED:20240108T214623Z
LAST-MODIFIED:20250103T000016Z
UID:4719-1776765600-1776772800@jewishnepa.org
SUMMARY:Mah Jongg at Temple Israel of the Poconos
DESCRIPTION:Do you play Mah Jongg? Want to Learn?\nTemple Israel of the Poconos\n711 Wallace Street\nStroudsburg\, PA 18360\nEvery Tuesday 10 am\nFor more information\, please call Temple office at 570-421-8781 or email: tipoc@ptd.net
URL:https://jewishnepa.org/event/mah-jongg-2/2026-04-21/
LOCATION:Temple Israel of the Poconos\, 711 Wallace Street\, Stroudsburg\, PA\, 18360\, United States
CATEGORIES:Community Event
ATTACH;FMTTYPE=image/jpeg:https://jewishnepa.org/wp-content/uploads/2024/01/1691229421040-da1853a8681b43ad97875e2c90d286fa-goods.jpeg
ORGANIZER;CN="Temple Israel of the Poconos":MAILTO:tipoc@ptd.net
END:VEVENT
BEGIN:VEVENT
DTSTART;TZID=UTC:20260421T103000
DTEND;TZID=UTC:20260421T120000
DTSTAMP:20260421T014033
CREATED:20240918T185853Z
LAST-MODIFIED:20250109T214117Z
UID:4496-1776767400-1776772800@jewishnepa.org
SUMMARY:Class with Rabbi Zucker - Weekly at Temple Israel of the Poconos
DESCRIPTION:Every Tuesday 10:30 am – noon Class with Rabbi Zucker  no charge
URL:https://jewishnepa.org/event/class-with-rabbi-zucker-weekly-at-temple-israel-of-the-poconos/2026-04-21/
LOCATION:Temple Israel of the Poconos\, 711 Wallace Street\, Stroudsburg\, PA\, 18360\, United States
CATEGORIES:Community Event
ATTACH;FMTTYPE=image/png:https://jewishnepa.org/wp-content/uploads/2024/09/Oct7-IG-2.png
ORGANIZER;CN="Temple Israel of the Poconos":MAILTO:tipoc@ptd.net
END:VEVENT
BEGIN:VEVENT
DTSTART;TZID=UTC:20260421T110000
DTEND;TZID=UTC:20260421T120000
DTSTAMP:20260421T014033
CREATED:20240918T185259Z
LAST-MODIFIED:20250127T170726Z
UID:4390-1776769200-1776772800@jewishnepa.org
SUMMARY:Weekly Chair Yoga at Temple Israel of the Poconos
DESCRIPTION:Join us for our weekly chair yoga class.  $5 per person.
URL:https://jewishnepa.org/event/weekly-chair-yoga-at-temple-israel-of-the-poconos/2026-04-21/
LOCATION:Temple Israel of the Poconos\, 711 Wallace Street\, Stroudsburg\, PA\, 18360\, United States
CATEGORIES:Community Event
ATTACH;FMTTYPE=image/png:https://jewishnepa.org/wp-content/uploads/2024/09/Oct7-IG-1.png
ORGANIZER;CN="Temple Israel of the Poconos":MAILTO:tipoc@ptd.net
END:VEVENT
BEGIN:VEVENT
DTSTART;TZID=UTC:20260421T190000
DTEND;TZID=UTC:20260422T190000
DTSTAMP:20260421T014033
CREATED:20230127T011003Z
LAST-MODIFIED:20250616T231649Z
UID:3357-1776798000-1776884400@jewishnepa.org
SUMMARY:Yom Hazikaron /  יום הזיכרון
DESCRIPTION:Yom Hazikaron (Israel’s Memorial Day) is a day to remember Israel’s fallen soldiers as well as Israeli victims of terror.
URL:https://jewishnepa.org/event/yom-hazikaron-%d7%99%d7%95%d7%9d-%d7%94%d7%96%d7%99%d7%9b%d7%a8%d7%95%d7%9f/2026-04-21/
LOCATION:PA
CATEGORIES:Jewish Holidays
ATTACH;FMTTYPE=image/png:https://jewishnepa.org/wp-content/uploads/2023/01/KIND-1.png
END:VEVENT
BEGIN:VEVENT
DTSTART;TZID=UTC:20260421T193000
DTEND;TZID=UTC:20260422T193000
DTSTAMP:20260421T014033
CREATED:20230127T035202Z
LAST-MODIFIED:20250616T231739Z
UID:3359-1776799800-1776886200@jewishnepa.org
SUMMARY:Yom Haatzmaut /  יום העצמאות
DESCRIPTION:Immediately after Yom Hazikaron ends\, Yom Haatzmaut (Israel’s Independence Day) begins. It takes place on the date in the Hebrew calendar that Israel declared independence\, the 5th of Iyar. \n 
URL:https://jewishnepa.org/event/yom-haatzmaut-%d7%99%d7%95%d7%9d-%d7%94%d7%a2%d7%a6%d7%9e%d7%90%d7%95%d7%aa/2026-04-21/
LOCATION:PA
CATEGORIES:Jewish Holidays
ATTACH;FMTTYPE=image/png:https://jewishnepa.org/wp-content/uploads/2023/01/KIND-3.png
END:VEVENT
END:VCALENDAR