BEGIN:VCALENDAR
VERSION:2.0
PRODID:-//Jewish Federation of NEPA - ECPv6.15.20//NONSGML v1.0//EN
CALSCALE:GREGORIAN
METHOD:PUBLISH
X-ORIGINAL-URL:https://jewishnepa.org
X-WR-CALDESC:Events for Jewish Federation of NEPA
REFRESH-INTERVAL;VALUE=DURATION:PT1H
X-Robots-Tag:noindex
X-PUBLISHED-TTL:PT1H
BEGIN:VTIMEZONE
TZID:UTC
BEGIN:STANDARD
TZOFFSETFROM:+0000
TZOFFSETTO:+0000
TZNAME:UTC
DTSTART:20240101T000000
END:STANDARD
END:VTIMEZONE
BEGIN:VEVENT
DTSTART;TZID=UTC:20251029T170000
DTEND;TZID=UTC:20251030T180000
DTSTAMP:20260421T084235
CREATED:20220824T210720Z
LAST-MODIFIED:20220824T210720Z
UID:5947-1761757200-1761847200@jewishnepa.org
SUMMARY:Shmini Atzeret / שמיני עצרת
DESCRIPTION:Shemini Atzeret (“the Eighth [day] of Assembly”) is celebrated on the 22nd day of the Hebrew month of Tishrei (first month of calendar). In the Diaspora\, an additional day is celebrated\, the second day being separately referred to as Simchat Torah. In Israel and Reform Judaism\, the holidays of Shemini Atzeret and Simchat Torah are combined into a single day and the names are used interchangeably.
URL:https://jewishnepa.org/event/shmini-atzeret-%d7%a9%d7%9e%d7%99%d7%a0%d7%99-%d7%a2%d7%a6%d7%a8%d7%aa/2025-10-29/
CATEGORIES:Jewish Holidays
ATTACH;FMTTYPE=image/jpeg:https://jewishnepa.org/wp-content/uploads/2022/08/Shmini-Atzeret.jpeg
END:VEVENT
BEGIN:VEVENT
DTSTART;TZID=UTC:20251013T170000
DTEND;TZID=UTC:20251014T180000
DTSTAMP:20260421T084235
CREATED:20220824T210720Z
LAST-MODIFIED:20250616T231022Z
UID:3152-1760374800-1760464800@jewishnepa.org
SUMMARY:Shmini Atzeret / שמיני עצרת
DESCRIPTION:Shemini Atzeret (“the Eighth [day] of Assembly”) is celebrated on the 22nd day of the Hebrew month of Tishrei (first month of calendar). In the Diaspora\, an additional day is celebrated\, the second day being separately referred to as Simchat Torah. In Israel and Reform Judaism\, the holidays of Shemini Atzeret and Simchat Torah are combined into a single day and the names are used interchangeably.
URL:https://jewishnepa.org/event/shmini-atzeret-%d7%a9%d7%9e%d7%99%d7%a0%d7%99-%d7%a2%d7%a6%d7%a8%d7%aa/2025-10-13/
CATEGORIES:Jewish Holidays
ATTACH;FMTTYPE=image/jpeg:https://jewishnepa.org/wp-content/uploads/2022/08/Shmini-Atzeret.jpeg
END:VEVENT
END:VCALENDAR